Workbook

Sheet seizoen 2026-2027
B2: teamcoodinator | C2: Bart Stoltenborg, VEW 2 | D2: VEW 017-1 | E2: ?? | F2: VEW 012-3 | G2: ??
B3: teamcoodinator | C3: Jasper van 't Veld, VEW3 | D3: VEW 014-1 | E3: bas van 't Sant | F3: VEW 011-1 | G3: ??
B4: teamcoodinator | C4: Gerben Jukema, VEW4 | D4: VEW 014-2 | E4: bas van 't Sant | F4: VEW 011-2 | G4: jasper de zwart, robbie schaap
B5: teamcoodinator | C5: Mark de Jongh Mike van Ling en Toekie Bouwman , VEW45+ | D5: VEW 012-1 | E5: ?? | F5: VEW 010-1 | G5: ??
B6: teamcoodinator | C6: Mike van Ling (VEW JO19-1) | D6: VEW 012-2 | E6: Jouke Boer | F6: VEW 08-1 | G6: ??
B7: teamcoodinator | F7: VEW 08-2 | G7: ??
A10: Barrooster 2026-2027 | B10: Team | C10: Tijd: | E10: Afsluiten | F10: Wedstrijd Programma
A11: Datum | B11: Welk team heeft Bardienst: | C11: Starttijd bardienst | D11: Eindtijd bardienst | E11: Afsluiten | F11: VEW team | G11: Tegenstander | H11: team | I11: Aanvangstijd
A12: 46263 | B12: VEW 45+ | C12: 11.00 | D12: 14.00 | F12: VEW 2 | G12: VVC fc | H12: 3 | I12: 12.00
B13: VEW 2 | C13: 14.00 | D13: 16.30 | E13: ja | F13: VEW45+ | G13: Spaarnwoude | H13: 45+1 | I13: 14.30
A14: 46270 | B14: VEW 010-1 | C14: 8.30 | D14: 10.00 | F14: VEW 010-1 | G14: BSM | H14: 010-4 | I14: 9.15
B15: VEW 012-3 | C15: 10.00 | D15: 12.00 | E15: nee | F15: VEW 011-2 | G15: HBC | H15: 011-4 | I15: 9.15
F16: VEW 012-3 | G16: Olympia Haarlem | H16: 012-3 | I16: 10.30
F17: VEW 014-1 | G17: BVC Bloemendaal | H17: 014-3 | I17: 10.30
F18: VEW 017-1 | G18: Ijmuiden | H18: 017-3 | I18: 12.00
A19: s' middags 7x7
A20: 46274 | B20: zelf regelen | F20: VEW 3 | G20: VSV | H20: 3 | I20: 20.00
A21: 46277 | B21: VEW 08-2 | C21: 8.30 | D21: 10.00 | F21: VEW 08-2 | G21: Alliance '22 sv. | H21: 08-6 | I21: 9.15
B22: VEW 012-2 | C22: 10.00 | D22: 12.00 | F22: VEW 08-1 | G22: Dio sv. | H22: 08-1 | I22: 9.15
B23: VEW 014-2 | C23: 12.00 | D23: 14.00 | F23: VEW 012-2 | G23: VVC fc | H23: 012-2JM | I23: 10.30
B24: VEW 3 | C24: 14.00 | D24: 16.30 | F24: VEW 012-1 | G24: Hoofddorp | H24: 012-8 | I24: 10.30
B25: VEW O19-1 | C25: 16.30 | D25: 18.30 | E25: ja | F25: VEW 014-2 | G25: Hoofddorp | H25: 014-5 | I25: 10.30
F26: VEW 3 | G26: Hillegom sv | H26: 4 | I26: 12.00
F27: VEW O19-1 | G27: VVC fc | H27: 019-3JM | I27: 14.30
A28: 46284 | B28: VEW 08-1 | C28: 8.30 | D28: 10.00 | F28: VEW 08-1 | G28: Geel Wit '20 sv. | H28: 08-4 | I28: 9.15
B29: VEW 012-1 | C29: 10.00 | D29: 12.00 | F29: VEW 010-1 | G29: HBC | H29: 010-5 | I29: 9.15
B30: VEW O19-1 | C30: 12.00 | D30: 14.00 | F30: VEW 011-1 | G30: HYS | H30: 011-1 | I30: 9.15
B31: Vrijwilligers gezocht | C31: 14.00 | D31: 16.30 | F31: VEW 012-1 | G31: Hillegom sv | H31: 012-4 | I31: 10.30
B32: VEW 4 | C32: 16.30 | D32: 18.30 | E32: ja | F32: VEW 3 | I32: verplaatst
F33: VEW 4 | G33: RKDES | H33: 5 | I33: 14.30
F34: VEW O19-1 | G34: BSM | H34: 019-2 | I34: 14.30
A35: 46291 | B35: VEW 011-2 | C35: 8.30 | D35: 10.00 | F35: VEW 08-2 | G35: Hoofddorp | H35: 08-8 | I35: 9.15
B36: VEW 014-1 | C36: 10.00 | D36: 12.00 | F36: VEW 011-2 | G36: Hoofddorp | H36: 011-8 | I36: 9.15
B37: VEW 017-1 | C37: 12.00 | D37: 14.00 | F37: VEW 012-3 | G37: Geel Wit '20 sv. | H37: 012-4 | I37: 10.30
B38: Vrijwilligers gezocht | C38: 14.00 | D38: 16.30 | F38: VEW 012-2 | G38: Hoofddorp | H38: 012-7 | I38: 10.30
B39: VEW 45+ | C39: 16.30 | D39: 18.30 | E39: ja | F39: VEW 014-1 | G39: HBC | H39: 014-2 | I39: 10.30
F40: VEW 017-1 | G40: HBC | H40: 017-3 | I40: 12.00
F41: VEW 014-2 | G41: HBC | H41: 014-3 | I41: 12.00
F42: VEW 2 | G42: DWS afc | H42: 2 | I42: 14.30
F43: VEW 45+ | G43: United sv/Davo | H43: 45+ | I43: 14.30
...

Sheet classificaties
D1: Vew Team | E1: Tijd | F1: Aantal keer aan de beurt | G1: Tegenstander | H1: Uit- Team | I1: zaterdagen | K1: afsluiten
D2: VEW 2 | E2: 8.00 | F2: =COUNTIF('seizoen 2026-2027'!$B$12:$B$1122,classificaties!$D2) -> 5 | G2: Hillegom sv | H2: 2 | I2: 46249 | K2: ja
D3: VEW 3 | E3: 8.15 | F3: =COUNTIF('seizoen 2026-2027'!$B$12:$B$1122,classificaties!$D3) -> 5 | G3: VVC fc | H3: 3 | I3: 46256 | K3: nee
D4: VEW 4 | E4: 8.30 | F4: =COUNTIF('seizoen 2026-2027'!$B$12:$B$1122,classificaties!$D4) -> 5 | G4: Uno vv | H4: 4 | I4: 46263 | K4: aangepast
D5: VEW 45+ | E5: 8.45 | F5: =COUNTIF('seizoen 2026-2027'!$B$12:$B$1122,classificaties!$D5) -> 6 | G5: Fc Aalsmeer | H5: 5 | I5: 46270
D6: VEW O19-1 | E6: 9.00 | F6: =COUNTIF('seizoen 2026-2027'!$B$12:$B$1122,classificaties!$D6) -> 3 | G6: Olympia Haarlem | H6: 6 | I6: 46277
D7: VEW 017-1 | E7: 9.15 | F7: =COUNTIF('seizoen 2026-2027'!$B$12:$B$1122,classificaties!$D7) -> 1 | G7: Buitenveldert sc | H7: 7 | I7: 46284
D8: VEW 014-1 | E8: 9.30 | F8: =COUNTIF('seizoen 2026-2027'!$B$12:$B$1122,classificaties!$D8) -> 1 | G8: Sporting Martinus | H8: 8 | I8: 46291
D9: VEW 014-2 | E9: 9.45 | F9: =COUNTIF('seizoen 2026-2027'!$B$12:$B$1122,classificaties!$D9) -> 1 | G9: DVVA csv | H9: 019-1 | I9: 46298
D10: VEW 012-1 | E10: 10.00 | F10: =COUNTIF('seizoen 2026-2027'!$B$12:$B$1122,classificaties!$D10) -> 2 | G10: SCPB '22 | H10: 019-2 | I10: 46305
D11: VEW 012-2 | E11: 10.15 | F11: =COUNTIF('seizoen 2026-2027'!$B$12:$B$1122,classificaties!$D11) -> 1 | G11: Argon | H11: 019-3 | I11: 46312
D12: VEW 012-3 | E12: 10.30 | F12: =COUNTIF('seizoen 2026-2027'!$B$12:$B$1122,classificaties!$D12) -> 1 | G12: DWS afc | H12: 019-3JM | I12: 46319
D13: VEW 011-1 | E13: 10.45 | F13: =COUNTIF('seizoen 2026-2027'!$B$12:$B$1122,classificaties!$D13) -> 1 | G13: Roda '23 Rksv | H13: 017-1 | I13: 46326
D14: VEW 011-2 | E14: 11.00 | F14: =COUNTIF('seizoen 2026-2027'!$B$12:$B$1122,classificaties!$D14) -> 1 | G14: Wartburgia asv | H14: 017-2 | I14: 46333
D15: VEW 010-1 | E15: 11.15 | F15: =COUNTIF('seizoen 2026-2027'!$B$12:$B$1122,classificaties!$D15) -> 1 | G15: Dio sv. | H15: 017-3 | I15: 46340
D16: VEW 08-1 | E16: 11.30 | F16: =COUNTIF('seizoen 2026-2027'!$B$12:$B$1122,classificaties!$D16) -> 1 | G16: VSV | H16: 017-4 | I16: 46347
D17: VEW 08-2 | E17: 11.45 | F17: =COUNTIF('seizoen 2026-2027'!$B$12:$B$1122,classificaties!$D17) -> 1 | G17: EDO hfc | H17: 014-1 | I17: 46354
D18: zelf regelen | E18: 12.00 | F18: =COUNTIF('seizoen 2026-2027'!$B$12:$B$1122,classificaties!$D18) -> 2 | G18: Koninkijke HFC | H18: 014-2 | I18: 46361
D19: Vrijwilligers gezocht | E19: 12.15 | F19: =COUNTIF('seizoen 2026-2027'!$B$12:$B$1122,classificaties!$D19) -> 2 | G19: VVH/Velserbroek | H19: 014-3 | I19: 46368
E20: 12.30 | G20: DSS | H20: 014-4 | I20: 46375
E21: 12.45 | G21: RKDES | H21: 014-5 | I21: 46382
E22: 13.00 | G22: BSM | H22: 014-1JM | I22: 46389
E23: 13.15 | G23: RCH | H23: 012-1 | I23: 46396
E24: 13.30 | G24: HBC | H24: 012-2 | I24: 46403
E25: 13.45 | G25: Schoten | H25: 012-3 | I25: 46410
E26: 14.00 | G26: Vogelenzang sv. | H26: 012-4 | I26: 46417
E27: 14.15 | G27: Overbos | H27: 012-5 | I27: 46424
E28: 14.30 | G28: Haarlem-Kennemerland | H28: 012-6 | I28: 46431
E29: 14.45 | G29: Spaarnwoude | H29: 012-7 | I29: 46438
E30: 15.00 | G30: Fortuna Wormerveer sv | H30: 012-8 | I30: 46445
E31: 15.15 | G31: BVC Bloemendaal | H31: 012-2JM | I31: 46452
... E44: 18.30 | G44: Hoofddorp | H44: 010-5 | I44: 46543
E45: 18.45 | H45: 010-6 | I45: 46550
E46: 19.00 | H46: 010-7 | I46: 46557
E47: 19.15 | H47: 08-1 | I47: 46564
E48: 19.30 | H48: 08-2 | I48: 46571
E49: 19.45 | H49: 08-3 | I49: 46578
E50: 20.00 | H50: 08-4 | I50: 46274
E51: verplaatst | H51: 08-5 | I51: s' middags 7x7
H52: 08-6
...

Sheet telefoonnummers+ koppeltjes
B2: Rob de kwaasteniet | C2: 0653311472 | E2: Rob Phillipo | F2: 0613710994
B3: Marc Verbeek | C3: 0646297467 | E3: Dick Nederveen | F3: 0651155916 | G3: dnederveen@ziggo.nl
B4: Onne Stoltenborg | C4: 0653841642 | E4: Marijke Voogd | F4: 0623585483
B5: Jasper van der Veldt | C5: 0625448531
B6: Mark de Jongh | C6: 0622662798
B7: Gerben Jukema | C7: 0618804236
B8: Rutger Dansen | C8: 0652779645
B9: Harry Wierda | C9: 0650204949
B13: mailadressen
B14: ronald.siezenga@gmail.com
B15: wierda.gj@gmail.com
B16: rgraaf78@gmail.com
B17: makkie73@hotmail.com
B18: o.stoltenborg@hetnet.nl
B19: bvantsant@hotmail.com
B20: mveenhof@gmail.com
B21: mdjongh@arrow.com
B22: m.jukema@hotmail.com
B23: rvdveldt@quicknet.nl | C23: ?
B24: rwdansen@hetnet.nl | C24: ?
B25: kwaas010@planet.nl | C25: ?
B26: pm.meester@planet.nl | C26: ?
B27: willempannekoek@hotmail.com
B28: de-flippies@quicknet.nl
B30: reserve lijst
B31: Marijke Voogd
B32: Margo & marjolein Ratelbant | C32: 0628362454
B33: Mike Kemper
B34: Fred Loos..
B37: koppeltjes tbv barbezetting
B39: Willem Pannekoek- Ronald Siezinga
B40: Onno Stoltenborg- Harry Wierda
B41: Rob de Kwaasteniet - Rutger Dansen
B42: Simon Blok - Hidde/Sjoerd van Bergen/Robert/ Max
B43: Margo en Marjolein Neeskens
B44: Wiebe Eenhuizen + Maarten Veenhof
B45: Marc Verbeek-Martijn Han- Paul Meester
B46: Carolien en dochter | C46: 06-52420332 | D46: via Rob en sportfever, willen graag elke keer bij het eerste achter de bar worden ingeroosterd.
B48: Mike Kemper- Fred Loos + Praticia | D48: nog telefoongegevens van hebben

Sheet jeugd lijst
B3: ='seizoen 2026-2027'!A14 -> 46270 | C3: ='seizoen 2026-2027'!B14 -> VEW 010-1 | D3: ='seizoen 2026-2027'!C14 -> 8.30 | E3: ='seizoen 2026-2027'!D14 -> 10.00
C4: ='seizoen 2026-2027'!B15 -> VEW 012-3 | D4: ='seizoen 2026-2027'!C15 -> 10.00 | E4: ='seizoen 2026-2027'!D15 -> 12.00
B5: ='seizoen 2026-2027'!A21 -> 46277 | C5: ='seizoen 2026-2027'!B21 -> VEW 08-2 | D5: ='seizoen 2026-2027'!C21 -> 8.30 | E5: ='seizoen 2026-2027'!D21 -> 10.00
C6: ='seizoen 2026-2027'!B22 -> VEW 012-2 | D6: ='seizoen 2026-2027'!C22 -> 10.00 | E6: ='seizoen 2026-2027'!D22 -> 12.00
C7: ='seizoen 2026-2027'!B23 -> VEW 014-2 | D7: ='seizoen 2026-2027'!C23 -> 12.00 | E7: ='seizoen 2026-2027'!D23 -> 14.00
C8: ='seizoen 2026-2027'!B25 -> VEW O19-1 | D8: ='seizoen 2026-2027'!C25 -> 16.30 | E8: ='seizoen 2026-2027'!D25 -> 18.30
B9: ='seizoen 2026-2027'!A28 -> 46284 | C9: ='seizoen 2026-2027'!B28 -> VEW 08-1 | D9: ='seizoen 2026-2027'!C28 -> 8.30 | E9: ='seizoen 2026-2027'!D28 -> 10.00
C10: ='seizoen 2026-2027'!B29 -> VEW 012-1 | D10: ='seizoen 2026-2027'!C29 -> 10.00 | E10: ='seizoen 2026-2027'!D29 -> 12.00
C11: ='seizoen 2026-2027'!B30 -> VEW O19-1 | D11: ='seizoen 2026-2027'!C30 -> 12.00 | E11: ='seizoen 2026-2027'!D30 -> 14.00
C12: ='seizoen 2026-2027'!B31 -> Vrijwilligers gezocht | D12: ='seizoen 2026-2027'!C31 -> 14.00 | E12: ='seizoen 2026-2027'!D31 -> 16.30
B13: ='seizoen 2026-2027'!A35 -> 46291 | C13: ='seizoen 2026-2027'!B35 -> VEW 011-2 | D13: ='seizoen 2026-2027'!C35 -> 8.30 | E13: ='seizoen 2026-2027'!D35 -> 10.00
C14: ='seizoen 2026-2027'!B36 -> VEW 014-1 | D14: ='seizoen 2026-2027'!C36 -> 10.00 | E14: ='seizoen 2026-2027'!D36 -> 12.00
C15: ='seizoen 2026-2027'!B37 -> VEW 017-1 | D15: ='seizoen 2026-2027'!C37 -> 12.00 | E15: ='seizoen 2026-2027'!D37 -> 14.00
C16: ='seizoen 2026-2027'!B38 -> Vrijwilligers gezocht | D16: ='seizoen 2026-2027'!C38 -> 14.00 | E16: ='seizoen 2026-2027'!D38 -> 16.30
B17: ='seizoen 2026-2027'!A44 -> 46298 | C17: ='seizoen 2026-2027'!B44 -> VEW 011-1 | D17: ='seizoen 2026-2027'!C44 -> 8.30 | E17: ='seizoen 2026-2027'!D44 -> 10.00
C18: ='seizoen 2026-2027'!B45 -> VEW 012-1 | D18: ='seizoen 2026-2027'!C45 -> 10.00 | E18: ='seizoen 2026-2027'!D45 -> 12.00
C19: ='seizoen 2026-2027'!B46 -> VEW O19-1 | D19: ='seizoen 2026-2027'!C46 -> 12.00 | E19: ='seizoen 2026-2027'!D46 -> 14.00
